BEGIN:VCALENDAR
VERSION:2.0
PRODID:http://www.infomax-online.de/imxeventmanager/
METHOD:PUBLISH
BEGIN:VTIMEZONE
TZID:Europe/Berlin
TZURL:http://tzurl.org/zoneinfo-outlook/Europe/Berlin
X-LIC-LOCATION:Europe/Berlin
END:VTIMEZONE
BEGIN:VEVENT
UID:69e4e5533d004
LOCATION:Greimelstraße 30, 83236 Übersee
SUMMARY;ENCODING=QUOTED-PRINTABLE:"Quadrophoniker + plus" in der Feldwies
DESCRIPTION;ENCODING=QUOTED-PRINTABLE:Ein Abend voller Harmonie, Humor und musikalischer Überraschungen=0D=0Aerwartet Sie in der Feldwies. Die "Quadrophoniker + plus" aus=0D=0ASiegsdorf begeistern mit ihrem A capella Programm von den Comedian=0D=0AHarmonists bis zu den Beatles. In Frack und Zylinder, mit feinem Humor=0D=0Aund viel Charme sorgen die sechs Herren für beste Unterhaltung.
URL;VALUE=URI:https://veranstaltungen.chieming.de/veranstaltungen-in-chieming/e-quadrophoniker-plus-in-der-feldwies?eventDateId=2061887&widgetToken=3S3wCFbmWNU.&
CLASS:PUBLIC
DTSTART:20260426T193000
DTSTAMP:20260419T162315
END:VEVENT
END:VCALENDAR