BEGIN:VCALENDAR
VERSION:2.0
PRODID:http://www.infomax-online.de/imxeventmanager/
METHOD:PUBLISH
BEGIN:VTIMEZONE
TZID:Europe/Berlin
TZURL:http://tzurl.org/zoneinfo-outlook/Europe/Berlin
X-LIC-LOCATION:Europe/Berlin
END:VTIMEZONE
BEGIN:VEVENT
UID:69e4f0fe23524
LOCATION: , 83224 Grassau
SUMMARY;ENCODING=QUOTED-PRINTABLE:Bücher Flohmarkt am Maibaum
DESCRIPTION;ENCODING=QUOTED-PRINTABLE:Traditionell findet während des Georgimarktes Grassau ein großer=0D=0ABücher-Flohmarkt statt.Es können gut erhaltene Bücher gegen Spenden=0D=0Aerworben werden.
URL;VALUE=URI:https://veranstaltungen.chieming.de/veranstaltungen-in-chieming/e-buecher-flohmarkt-am-maibaum-2?eventDateId=1963898&widgetToken=3S3wCFbmWNU.&
CLASS:PUBLIC
DTSTART:20260426T080000
DTSTAMP:20260419T171302
END:VEVENT
END:VCALENDAR