BEGIN:VCALENDAR
VERSION:2.0
PRODID:http://www.infomax-online.de/imxeventmanager/
METHOD:PUBLISH
BEGIN:VTIMEZONE
TZID:Europe/Berlin
TZURL:http://tzurl.org/zoneinfo-outlook/Europe/Berlin
X-LIC-LOCATION:Europe/Berlin
END:VTIMEZONE
BEGIN:VEVENT
UID:69e4f1c9f0940
LOCATION: , 83224 Grassau
SUMMARY;ENCODING=QUOTED-PRINTABLE:Georgi Markt
DESCRIPTION;ENCODING=QUOTED-PRINTABLE:Traditioneller Warenmarkt und verkaufsoffener Sonntag der Grassauer=0D=0AGeschäfte. Zünftige Unterhaltung am Kirchplatz mit der Grassauer=0D=0ABlasmusi von 11 bis 14 Uhr und im Anschluss mit der Rottauer Dorfmusi=0D=0Avon 14 bis 17 Uhr.
URL;VALUE=URI:https://veranstaltungen.chieming.de/veranstaltungen-in-chieming/e-georgi-markt-8?eventDateId=1948756&widgetToken=3S3wCFbmWNU.&
CLASS:PUBLIC
DTSTART:20260426T080000
DTSTAMP:20260419T171625
END:VEVENT
END:VCALENDAR