BEGIN:VCALENDAR
VERSION:2.0
PRODID:http://www.infomax-online.de/imxeventmanager/
METHOD:PUBLISH
BEGIN:VTIMEZONE
TZID:Europe/Berlin
TZURL:http://tzurl.org/zoneinfo-outlook/Europe/Berlin
X-LIC-LOCATION:Europe/Berlin
END:VTIMEZONE
BEGIN:VEVENT
UID:69e4cff40cee9
LOCATION:Hauptstraße 32, 83339 Chieming
SUMMARY;ENCODING=QUOTED-PRINTABLE:Maibaumaufstellen am Chiemseer Wirtshaus
DESCRIPTION;ENCODING=QUOTED-PRINTABLE:Herzliche Einladung zum traditionellen Maibaumaufstellen am Chiemseer=0D=0AWirtshaus! Der GTEV „Chiemseer“ Chieming e.V. freut sich auf Ihr=0D=0AKommen! Für das leibliche Wohl ist bestens gesorgt. Ausweichtermine=0D=0Asind der 02. oder 03. Mai 2025.
URL;VALUE=URI:https://veranstaltungen.chieming.de/veranstaltungen-in-chieming/e-maibaumaufstellen-am-chiemseer-wirtshaus?eventDateId=1944190&widgetToken=3S3wCFbmWNU.&
CLASS:PUBLIC
DTSTART:20260501T130000
DTSTAMP:20260419T145204
END:VEVENT
END:VCALENDAR